BEGIN:VCALENDAR
VERSION:2.0
PRODID:-//Ventana Fund - ECPv6.5.0//NONSGML v1.0//EN
CALSCALE:GREGORIAN
METHOD:PUBLISH
X-WR-CALNAME:Ventana Fund
X-ORIGINAL-URL:https://www.ventanafund.org
X-WR-CALDESC:Events for Ventana Fund
REFRESH-INTERVAL;VALUE=DURATION:PT1H
X-Robots-Tag:noindex
X-PUBLISHED-TTL:PT1H
BEGIN:VTIMEZONE
TZID:America/Denver
BEGIN:DAYLIGHT
TZOFFSETFROM:-0700
TZOFFSETTO:-0600
TZNAME:MDT
DTSTART:20260308T090000
END:DAYLIGHT
BEGIN:STANDARD
TZOFFSETFROM:-0600
TZOFFSETTO:-0700
TZNAME:MST
DTSTART:20261101T080000
END:STANDARD
END:VTIMEZONE
BEGIN:VEVENT
DTSTART;TZID=America/Denver:20260505T153000
DTEND;TZID=America/Denver:20260505T163000
DTSTAMP:20260421T030309
CREATED:20260123T221037Z
LAST-MODIFIED:20260123T221037Z
UID:1594-1777995000-1777998600@www.ventanafund.org
SUMMARY:Loan Committee Meeting
DESCRIPTION:
URL:https://www.ventanafund.org/event/loan-committee-meeting-29/
CATEGORIES:Loan Committee Meetings
END:VEVENT
BEGIN:VEVENT
DTSTART;TZID=America/Denver:20260507T153000
DTEND;TZID=America/Denver:20260507T163000
DTSTAMP:20260421T030309
CREATED:20260123T221235Z
LAST-MODIFIED:20260123T221235Z
UID:1596-1778167800-1778171400@www.ventanafund.org
SUMMARY:Finance Committee Meeting
DESCRIPTION:
URL:https://www.ventanafund.org/event/finance-committee-meeting-27/
CATEGORIES:Finance Committee
END:VEVENT
BEGIN:VEVENT
DTSTART;TZID=America/Denver:20260514T153000
DTEND;TZID=America/Denver:20260514T163000
DTSTAMP:20260421T030309
CREATED:20260123T221420Z
LAST-MODIFIED:20260123T221420Z
UID:1598-1778772600-1778776200@www.ventanafund.org
SUMMARY:Board of Directors Meeting
DESCRIPTION:
URL:https://www.ventanafund.org/event/board-of-directors-meeting-29/
CATEGORIES:Board Meetings
END:VEVENT
BEGIN:VEVENT
DTSTART;VALUE=DATE:20260525
DTEND;VALUE=DATE:20260526
DTSTAMP:20260421T030309
CREATED:20260123T221604Z
LAST-MODIFIED:20260123T221604Z
UID:1600-1779667200-1779753599@www.ventanafund.org
SUMMARY:Memorial Day - Office Closed
DESCRIPTION:
URL:https://www.ventanafund.org/event/memorial-day-office-closed-2/
CATEGORIES:Holidays
END:VEVENT
BEGIN:VEVENT
DTSTART;TZID=America/Denver:20260602T153000
DTEND;TZID=America/Denver:20260602T163000
DTSTAMP:20260421T030309
CREATED:20260123T221742Z
LAST-MODIFIED:20260123T221742Z
UID:1602-1780414200-1780417800@www.ventanafund.org
SUMMARY:Loan Committee Meeting
DESCRIPTION:
URL:https://www.ventanafund.org/event/loan-committee-meeting-30/
CATEGORIES:Loan Committee Meetings
END:VEVENT
BEGIN:VEVENT
DTSTART;TZID=America/Denver:20260604T103000
DTEND;TZID=America/Denver:20260604T113000
DTSTAMP:20260421T030309
CREATED:20260123T221902Z
LAST-MODIFIED:20260123T221902Z
UID:1604-1780569000-1780572600@www.ventanafund.org
SUMMARY:Finance Committee Meeting
DESCRIPTION:
URL:https://www.ventanafund.org/event/finance-committee-meeting-28/
CATEGORIES:Finance Committee
END:VEVENT
BEGIN:VEVENT
DTSTART;TZID=America/Denver:20260611T153000
DTEND;TZID=America/Denver:20260611T163000
DTSTAMP:20260421T030309
CREATED:20260123T222103Z
LAST-MODIFIED:20260123T222103Z
UID:1606-1781191800-1781195400@www.ventanafund.org
SUMMARY:Board of Directors Meeting
DESCRIPTION:
URL:https://www.ventanafund.org/event/board-of-directors-meeting-30/
CATEGORIES:Board Meetings
END:VEVENT
BEGIN:VEVENT
DTSTART;VALUE=DATE:20260619
DTEND;VALUE=DATE:20260620
DTSTAMP:20260421T030309
CREATED:20260123T222324Z
LAST-MODIFIED:20260123T222324Z
UID:1608-1781827200-1781913599@www.ventanafund.org
SUMMARY:Juneteenth - Office Closed
DESCRIPTION:
URL:https://www.ventanafund.org/event/juneteenth-office-closed-2/
CATEGORIES:Holidays
END:VEVENT
BEGIN:VEVENT
DTSTART;VALUE=DATE:20260703
DTEND;VALUE=DATE:20260704
DTSTAMP:20260421T030309
CREATED:20260123T222736Z
LAST-MODIFIED:20260123T222736Z
UID:1610-1783036800-1783123199@www.ventanafund.org
SUMMARY:Independence Day Reserved - Office Closed
DESCRIPTION:
URL:https://www.ventanafund.org/event/independence-day-reserved-office-closed/
CATEGORIES:Holidays
END:VEVENT
BEGIN:VEVENT
DTSTART;TZID=America/Denver:20260707T153000
DTEND;TZID=America/Denver:20260707T163000
DTSTAMP:20260421T030309
CREATED:20260123T223408Z
LAST-MODIFIED:20260123T223408Z
UID:1612-1783438200-1783441800@www.ventanafund.org
SUMMARY:Loan Committee Meeting
DESCRIPTION:
URL:https://www.ventanafund.org/event/loan-committee-meeting-31/
CATEGORIES:Loan Committee Meetings
END:VEVENT
BEGIN:VEVENT
DTSTART;TZID=America/Denver:20260709T153000
DTEND;TZID=America/Denver:20260709T163000
DTSTAMP:20260421T030309
CREATED:20260123T223606Z
LAST-MODIFIED:20260123T223606Z
UID:1614-1783611000-1783614600@www.ventanafund.org
SUMMARY:Finance Committee Meeting
DESCRIPTION:
URL:https://www.ventanafund.org/event/finance-committee-meeting-29/
CATEGORIES:Finance Committee
END:VEVENT
BEGIN:VEVENT
DTSTART;TZID=America/Denver:20260716T153000
DTEND;TZID=America/Denver:20260716T163000
DTSTAMP:20260421T030309
CREATED:20260123T223816Z
LAST-MODIFIED:20260123T223816Z
UID:1616-1784215800-1784219400@www.ventanafund.org
SUMMARY:Board of Directors Meeting
DESCRIPTION:
URL:https://www.ventanafund.org/event/board-of-directors-meeting-31/
CATEGORIES:Board Meetings
END:VEVENT
BEGIN:VEVENT
DTSTART;TZID=America/Denver:20260804T153000
DTEND;TZID=America/Denver:20260804T163000
DTSTAMP:20260421T030309
CREATED:20260123T223948Z
LAST-MODIFIED:20260123T223948Z
UID:1618-1785857400-1785861000@www.ventanafund.org
SUMMARY:Loan Committee Meeting
DESCRIPTION:
URL:https://www.ventanafund.org/event/loan-committee-meeting-32/
CATEGORIES:Loan Committee Meetings
END:VEVENT
BEGIN:VEVENT
DTSTART;TZID=America/Denver:20260806T103000
DTEND;TZID=America/Denver:20260806T113000
DTSTAMP:20260421T030309
CREATED:20260123T224405Z
LAST-MODIFIED:20260123T224405Z
UID:1620-1786012200-1786015800@www.ventanafund.org
SUMMARY:Finance Committee Meeting
DESCRIPTION:
URL:https://www.ventanafund.org/event/finance-committee-meeting-30/
CATEGORIES:Finance Committee
END:VEVENT
BEGIN:VEVENT
DTSTART;TZID=America/Denver:20260813T153000
DTEND;TZID=America/Denver:20260813T163000
DTSTAMP:20260421T030309
CREATED:20260123T224558Z
LAST-MODIFIED:20260123T224558Z
UID:1622-1786635000-1786638600@www.ventanafund.org
SUMMARY:Board of Directors Meeting
DESCRIPTION:
URL:https://www.ventanafund.org/event/board-of-directors-meeting-32/
CATEGORIES:Board Meetings
END:VEVENT
BEGIN:VEVENT
DTSTART;TZID=America/Denver:20260901T153000
DTEND;TZID=America/Denver:20260901T163000
DTSTAMP:20260421T030309
CREATED:20260123T224755Z
LAST-MODIFIED:20260123T224755Z
UID:1624-1788276600-1788280200@www.ventanafund.org
SUMMARY:Loan Committee Meeting
DESCRIPTION:
URL:https://www.ventanafund.org/event/loan-committee-meeting-33/
CATEGORIES:Loan Committee Meetings
END:VEVENT
BEGIN:VEVENT
DTSTART;TZID=America/Denver:20260903T153000
DTEND;TZID=America/Denver:20260903T163000
DTSTAMP:20260421T030309
CREATED:20260123T225008Z
LAST-MODIFIED:20260123T225008Z
UID:1626-1788449400-1788453000@www.ventanafund.org
SUMMARY:Finance Committee Meeting
DESCRIPTION:
URL:https://www.ventanafund.org/event/finance-committee-meeting-31/
CATEGORIES:Finance Committee
END:VEVENT
BEGIN:VEVENT
DTSTART;VALUE=DATE:20260907
DTEND;VALUE=DATE:20260908
DTSTAMP:20260421T030309
CREATED:20260123T225258Z
LAST-MODIFIED:20260123T225258Z
UID:1628-1788739200-1788825599@www.ventanafund.org
SUMMARY:Labor Day - Office Closed
DESCRIPTION:
URL:https://www.ventanafund.org/event/labor-day-office-closed-2/
CATEGORIES:Holidays
END:VEVENT
BEGIN:VEVENT
DTSTART;TZID=America/Denver:20260910T153000
DTEND;TZID=America/Denver:20260910T163000
DTSTAMP:20260421T030309
CREATED:20260123T225532Z
LAST-MODIFIED:20260123T225532Z
UID:1630-1789054200-1789057800@www.ventanafund.org
SUMMARY:Board of Directors Meeting
DESCRIPTION:
URL:https://www.ventanafund.org/event/board-of-directors-meeting-33/
CATEGORIES:Board Meetings
END:VEVENT
BEGIN:VEVENT
DTSTART;VALUE=DATE:20261012
DTEND;VALUE=DATE:20261013
DTSTAMP:20260421T030309
CREATED:20260123T225811Z
LAST-MODIFIED:20260123T225811Z
UID:1632-1791763200-1791849599@www.ventanafund.org
SUMMARY:Indigenous Peoples Day - Office Closed
DESCRIPTION:
URL:https://www.ventanafund.org/event/indigenous-peoples-day-office-closed-2/
CATEGORIES:Holidays
END:VEVENT
BEGIN:VEVENT
DTSTART;TZID=America/Denver:20261013T153000
DTEND;TZID=America/Denver:20261013T163000
DTSTAMP:20260421T030309
CREATED:20260123T230004Z
LAST-MODIFIED:20260123T230004Z
UID:1634-1791905400-1791909000@www.ventanafund.org
SUMMARY:Loan Committee Meeting
DESCRIPTION:
URL:https://www.ventanafund.org/event/loan-committee-meeting-34/
CATEGORIES:Loan Committee Meetings
END:VEVENT
BEGIN:VEVENT
DTSTART;TZID=America/Denver:20261015T103000
DTEND;TZID=America/Denver:20261015T113000
DTSTAMP:20260421T030309
CREATED:20260123T230313Z
LAST-MODIFIED:20260123T230313Z
UID:1636-1792060200-1792063800@www.ventanafund.org
SUMMARY:Finance Committee Meeting
DESCRIPTION:
URL:https://www.ventanafund.org/event/finance-committee-meeting-32/
CATEGORIES:Finance Committee
END:VEVENT
BEGIN:VEVENT
DTSTART;TZID=America/Denver:20261022T153000
DTEND;TZID=America/Denver:20261022T163000
DTSTAMP:20260421T030309
CREATED:20260123T230442Z
LAST-MODIFIED:20260123T230442Z
UID:1638-1792683000-1792686600@www.ventanafund.org
SUMMARY:Board of Directors Meeting
DESCRIPTION:
URL:https://www.ventanafund.org/event/board-of-directors-meeting-34/
CATEGORIES:Board Meetings
END:VEVENT
BEGIN:VEVENT
DTSTART;TZID=America/Denver:20261103T103000
DTEND;TZID=America/Denver:20261103T113000
DTSTAMP:20260421T030309
CREATED:20260123T230948Z
LAST-MODIFIED:20260123T230948Z
UID:1640-1793701800-1793705400@www.ventanafund.org
SUMMARY:Loan Committee Meeting
DESCRIPTION:
URL:https://www.ventanafund.org/event/loan-committee-meeting-35/
CATEGORIES:Loan Committee Meetings
END:VEVENT
BEGIN:VEVENT
DTSTART;TZID=America/Denver:20261105T103000
DTEND;TZID=America/Denver:20261105T113000
DTSTAMP:20260421T030310
CREATED:20260123T231553Z
LAST-MODIFIED:20260123T231553Z
UID:1642-1793874600-1793878200@www.ventanafund.org
SUMMARY:Finance Committee Meeting
DESCRIPTION:
URL:https://www.ventanafund.org/event/finance-committee-meeting-33/
CATEGORIES:Finance Committee
END:VEVENT
BEGIN:VEVENT
DTSTART;VALUE=DATE:20261111
DTEND;VALUE=DATE:20261112
DTSTAMP:20260421T030310
CREATED:20260123T232154Z
LAST-MODIFIED:20260123T232154Z
UID:1644-1794355200-1794441599@www.ventanafund.org
SUMMARY:Veterans Day - Office Closed
DESCRIPTION:
URL:https://www.ventanafund.org/event/veterans-day-office-closed-2/
CATEGORIES:Holidays
END:VEVENT
BEGIN:VEVENT
DTSTART;TZID=America/Denver:20261112T153000
DTEND;TZID=America/Denver:20261112T163000
DTSTAMP:20260421T030310
CREATED:20260123T232513Z
LAST-MODIFIED:20260123T232513Z
UID:1646-1794497400-1794501000@www.ventanafund.org
SUMMARY:Board of Directors Meeting
DESCRIPTION:
URL:https://www.ventanafund.org/event/board-of-directors-meeting-35/
CATEGORIES:Board Meetings
END:VEVENT
BEGIN:VEVENT
DTSTART;VALUE=DATE:20261126
DTEND;VALUE=DATE:20261127
DTSTAMP:20260421T030310
CREATED:20260123T233028Z
LAST-MODIFIED:20260123T233028Z
UID:1648-1795651200-1795737599@www.ventanafund.org
SUMMARY:Thanksgiving - Office Closed
DESCRIPTION:
URL:https://www.ventanafund.org/event/thanksgiving-office-closed-2/
CATEGORIES:Holidays
END:VEVENT
BEGIN:VEVENT
DTSTART;VALUE=DATE:20261127
DTEND;VALUE=DATE:20261128
DTSTAMP:20260421T030310
CREATED:20260123T233456Z
LAST-MODIFIED:20260123T233456Z
UID:1650-1795737600-1795823999@www.ventanafund.org
SUMMARY:Friday After Thanksgiving - Office Closed
DESCRIPTION:
URL:https://www.ventanafund.org/event/friday-after-thanksgiving-office-closed/
CATEGORIES:Holidays
END:VEVENT
BEGIN:VEVENT
DTSTART;TZID=America/Denver:20261201T153000
DTEND;TZID=America/Denver:20261201T163000
DTSTAMP:20260421T030310
CREATED:20260123T233806Z
LAST-MODIFIED:20260123T233806Z
UID:1652-1796139000-1796142600@www.ventanafund.org
SUMMARY:Loan Committee Meeting
DESCRIPTION:
URL:https://www.ventanafund.org/event/loan-committee-meeting-36/
CATEGORIES:Loan Committee Meetings
END:VEVENT
END:VCALENDAR