BEGIN:VCALENDAR
VERSION:2.0
PRODID:-//Ventana Fund - ECPv6.5.0//NONSGML v1.0//EN
CALSCALE:GREGORIAN
METHOD:PUBLISH
X-WR-CALNAME:Ventana Fund
X-ORIGINAL-URL:https://www.ventanafund.org
X-WR-CALDESC:Events for Ventana Fund
REFRESH-INTERVAL;VALUE=DURATION:PT1H
X-Robots-Tag:noindex
X-PUBLISHED-TTL:PT1H
BEGIN:VTIMEZONE
TZID:America/Denver
BEGIN:DAYLIGHT
TZOFFSETFROM:-0700
TZOFFSETTO:-0600
TZNAME:MDT
DTSTART:20230312T090000
END:DAYLIGHT
BEGIN:STANDARD
TZOFFSETFROM:-0600
TZOFFSETTO:-0700
TZNAME:MST
DTSTART:20231105T080000
END:STANDARD
BEGIN:DAYLIGHT
TZOFFSETFROM:-0700
TZOFFSETTO:-0600
TZNAME:MDT
DTSTART:20240310T090000
END:DAYLIGHT
BEGIN:STANDARD
TZOFFSETFROM:-0600
TZOFFSETTO:-0700
TZNAME:MST
DTSTART:20241103T080000
END:STANDARD
BEGIN:DAYLIGHT
TZOFFSETFROM:-0700
TZOFFSETTO:-0600
TZNAME:MDT
DTSTART:20250309T090000
END:DAYLIGHT
BEGIN:STANDARD
TZOFFSETFROM:-0600
TZOFFSETTO:-0700
TZNAME:MST
DTSTART:20251102T080000
END:STANDARD
END:VTIMEZONE
BEGIN:VEVENT
DTSTART;TZID=America/Denver:20250313T153000
DTEND;TZID=America/Denver:20250313T163000
DTSTAMP:20260420T062708
CREATED:20250102T191243Z
LAST-MODIFIED:20250102T191243Z
UID:1266-1741879800-1741883400@www.ventanafund.org
SUMMARY:Board of Directors Meeting
DESCRIPTION:The Ventana Fund’s Board will meet monthly.
URL:https://www.ventanafund.org/event/board-of-directors-meeting-15/
CATEGORIES:Board Meetings
END:VEVENT
BEGIN:VEVENT
DTSTART;TZID=America/Denver:20250213T153000
DTEND;TZID=America/Denver:20250213T163000
DTSTAMP:20260420T062708
CREATED:20250102T190022Z
LAST-MODIFIED:20250102T190022Z
UID:1260-1739460600-1739464200@www.ventanafund.org
SUMMARY:Board of Directors Meeting
DESCRIPTION:The Ventana Fund’s Board will meet monthly.
URL:https://www.ventanafund.org/event/board-of-directors-meeting-14/
CATEGORIES:Board Meetings
END:VEVENT
BEGIN:VEVENT
DTSTART;TZID=America/Denver:20250116T153000
DTEND;TZID=America/Denver:20250116T163000
DTSTAMP:20260420T062708
CREATED:20250102T184519Z
LAST-MODIFIED:20250102T191448Z
UID:1254-1737041400-1737045000@www.ventanafund.org
SUMMARY:Board of Directors Meeting
DESCRIPTION:The Ventana Fund’s Board will meet monthly.
URL:https://www.ventanafund.org/event/board-of-directors-meeting-4/
CATEGORIES:Board Meetings
END:VEVENT
BEGIN:VEVENT
DTSTART;TZID=America/Denver:20241212T153000
DTEND;TZID=America/Denver:20241212T163000
DTSTAMP:20260420T062708
CREATED:20231214T234325Z
LAST-MODIFIED:20231214T234325Z
UID:641-1734017400-1734021000@www.ventanafund.org
SUMMARY:Board of Directors Meeting
DESCRIPTION:The Ventana Fund’s Board will meet monthly.
URL:https://www.ventanafund.org/event/board-of-directors-meeting-13/
CATEGORIES:Board Meetings
END:VEVENT
BEGIN:VEVENT
DTSTART;TZID=America/Denver:20241114T153000
DTEND;TZID=America/Denver:20241114T163000
DTSTAMP:20260420T062708
CREATED:20231214T234302Z
LAST-MODIFIED:20231214T234302Z
UID:640-1731598200-1731601800@www.ventanafund.org
SUMMARY:Board of Directors Meeting
DESCRIPTION:The Ventana Fund’s Board will meet monthly.
URL:https://www.ventanafund.org/event/board-of-directors-meeting-12/
CATEGORIES:Board Meetings
END:VEVENT
BEGIN:VEVENT
DTSTART;TZID=America/Denver:20241010T153000
DTEND;TZID=America/Denver:20241010T163000
DTSTAMP:20260420T062708
CREATED:20231214T234241Z
LAST-MODIFIED:20231214T234241Z
UID:639-1728574200-1728577800@www.ventanafund.org
SUMMARY:Board of Directors Meeting
DESCRIPTION:The Ventana Fund’s Board will meet monthly.
URL:https://www.ventanafund.org/event/board-of-directors-meeting-11/
CATEGORIES:Board Meetings
END:VEVENT
BEGIN:VEVENT
DTSTART;TZID=America/Denver:20240919T153000
DTEND;TZID=America/Denver:20240919T163000
DTSTAMP:20260420T062708
CREATED:20231214T234221Z
LAST-MODIFIED:20240730T174255Z
UID:638-1726759800-1726763400@www.ventanafund.org
SUMMARY:Board of Directors Meeting
DESCRIPTION:The Ventana Fund’s Board will meet monthly.
URL:https://www.ventanafund.org/event/board-of-directors-meeting-10/
CATEGORIES:Board Meetings
END:VEVENT
BEGIN:VEVENT
DTSTART;TZID=America/Denver:20240815T153000
DTEND;TZID=America/Denver:20240815T163000
DTSTAMP:20260420T062708
CREATED:20231214T234200Z
LAST-MODIFIED:20231214T234200Z
UID:637-1723735800-1723739400@www.ventanafund.org
SUMMARY:Board of Directors Meeting
DESCRIPTION:The Ventana Fund’s Board will meet monthly.
URL:https://www.ventanafund.org/event/board-of-directors-meeting-9/
CATEGORIES:Board Meetings
END:VEVENT
BEGIN:VEVENT
DTSTART;TZID=America/Denver:20240718T153000
DTEND;TZID=America/Denver:20240718T163000
DTSTAMP:20260420T062708
CREATED:20231214T234131Z
LAST-MODIFIED:20231214T234131Z
UID:636-1721316600-1721320200@www.ventanafund.org
SUMMARY:Board of Directors Meeting
DESCRIPTION:The Ventana Fund’s Board will meet monthly.
URL:https://www.ventanafund.org/event/board-of-directors-meeting-8/
CATEGORIES:Board Meetings
END:VEVENT
BEGIN:VEVENT
DTSTART;TZID=America/Denver:20240613T153000
DTEND;TZID=America/Denver:20240613T163000
DTSTAMP:20260420T062708
CREATED:20231214T234105Z
LAST-MODIFIED:20231214T234105Z
UID:635-1718292600-1718296200@www.ventanafund.org
SUMMARY:Board of Directors Meeting
DESCRIPTION:The Ventana Fund’s Board will meet monthly.
URL:https://www.ventanafund.org/event/board-of-directors-meeting-7/
CATEGORIES:Board Meetings
END:VEVENT
BEGIN:VEVENT
DTSTART;TZID=America/Denver:20240516T153000
DTEND;TZID=America/Denver:20240516T163000
DTSTAMP:20260420T062708
CREATED:20231214T234035Z
LAST-MODIFIED:20231214T234035Z
UID:634-1715873400-1715877000@www.ventanafund.org
SUMMARY:Board of Directors Meeting
DESCRIPTION:The Ventana Fund’s Board will meet monthly.
URL:https://www.ventanafund.org/event/board-of-directors-meeting-6/
CATEGORIES:Board Meetings
END:VEVENT
BEGIN:VEVENT
DTSTART;TZID=America/Denver:20240411T153000
DTEND;TZID=America/Denver:20240411T163000
DTSTAMP:20260420T062708
CREATED:20231214T233956Z
LAST-MODIFIED:20231214T233956Z
UID:633-1712849400-1712853000@www.ventanafund.org
SUMMARY:Board of Directors Meeting
DESCRIPTION:The Ventana Fund’s Board will meet monthly.
URL:https://www.ventanafund.org/event/board-of-directors-meeting-5/
CATEGORIES:Board Meetings
END:VEVENT
BEGIN:VEVENT
DTSTART;TZID=America/Denver:20240314T153000
DTEND;TZID=America/Denver:20240314T163000
DTSTAMP:20260420T062708
CREATED:20231214T233934Z
LAST-MODIFIED:20231214T233934Z
UID:642-1710430200-1710433800@www.ventanafund.org
SUMMARY:Board of Directors Meeting
DESCRIPTION:The Ventana Fund’s Board will meet monthly.
URL:https://www.ventanafund.org/event/board-of-directors-meeting-4-2/
CATEGORIES:Board Meetings
END:VEVENT
BEGIN:VEVENT
DTSTART;TZID=America/Denver:20240215T153000
DTEND;TZID=America/Denver:20240215T163000
DTSTAMP:20260420T062708
CREATED:20231213T211358Z
LAST-MODIFIED:20231213T211358Z
UID:579-1708011000-1708014600@www.ventanafund.org
SUMMARY:Board of Directors Meeting
DESCRIPTION:The Ventana Fund’s Board will meet monthly.
URL:https://www.ventanafund.org/event/board-of-directors-meeting-3/
CATEGORIES:Board Meetings
END:VEVENT
BEGIN:VEVENT
DTSTART;TZID=America/Denver:20240118T153000
DTEND;TZID=America/Denver:20240118T163000
DTSTAMP:20260420T062708
CREATED:20231213T182940Z
LAST-MODIFIED:20231213T182940Z
UID:556-1705591800-1705595400@www.ventanafund.org
SUMMARY:Board of Directors Meeting
DESCRIPTION:The Ventana Fund’s Board will meet monthly.
URL:https://www.ventanafund.org/event/board-of-directors-meeting-2/
CATEGORIES:Board Meetings
END:VEVENT
BEGIN:VEVENT
DTSTART;TZID=America/Denver:20231214T153000
DTEND;TZID=America/Denver:20231214T163000
DTSTAMP:20260420T062709
CREATED:20231213T182515Z
LAST-MODIFIED:20231218T152057Z
UID:555-1702567800-1702571400@www.ventanafund.org
SUMMARY:Board of Directors Meeting
DESCRIPTION:The Ventana Fund’s Board will meet monthly.
URL:https://www.ventanafund.org/event/board-of-directors-meeting/
CATEGORIES:Board Meetings
END:VEVENT
END:VCALENDAR