BEGIN:VCALENDAR
VERSION:2.0
PRODID:-//Ventana Fund - ECPv6.5.0//NONSGML v1.0//EN
CALSCALE:GREGORIAN
METHOD:PUBLISH
X-ORIGINAL-URL:https://www.ventanafund.org
X-WR-CALDESC:Events for Ventana Fund
REFRESH-INTERVAL;VALUE=DURATION:PT1H
X-Robots-Tag:noindex
X-PUBLISHED-TTL:PT1H
BEGIN:VTIMEZONE
TZID:America/Denver
BEGIN:DAYLIGHT
TZOFFSETFROM:-0700
TZOFFSETTO:-0600
TZNAME:MDT
DTSTART:20230312T090000
END:DAYLIGHT
BEGIN:STANDARD
TZOFFSETFROM:-0600
TZOFFSETTO:-0700
TZNAME:MST
DTSTART:20231105T080000
END:STANDARD
BEGIN:DAYLIGHT
TZOFFSETFROM:-0700
TZOFFSETTO:-0600
TZNAME:MDT
DTSTART:20240310T090000
END:DAYLIGHT
BEGIN:STANDARD
TZOFFSETFROM:-0600
TZOFFSETTO:-0700
TZNAME:MST
DTSTART:20241103T080000
END:STANDARD
END:VTIMEZONE
BEGIN:VEVENT
DTSTART;TZID=America/Denver:20240314T153000
DTEND;TZID=America/Denver:20240314T163000
DTSTAMP:20260420T075017
CREATED:20231214T233934Z
LAST-MODIFIED:20231214T233934Z
UID:642-1710430200-1710433800@www.ventanafund.org
SUMMARY:Board of Directors Meeting
DESCRIPTION:The Ventana Fund’s Board will meet monthly.
URL:https://www.ventanafund.org/event/board-of-directors-meeting-4-2/
CATEGORIES:Board Meetings
END:VEVENT
BEGIN:VEVENT
DTSTART;TZID=America/Denver:20240215T153000
DTEND;TZID=America/Denver:20240215T163000
DTSTAMP:20260420T075017
CREATED:20231213T211358Z
LAST-MODIFIED:20231213T211358Z
UID:579-1708011000-1708014600@www.ventanafund.org
SUMMARY:Board of Directors Meeting
DESCRIPTION:The Ventana Fund’s Board will meet monthly.
URL:https://www.ventanafund.org/event/board-of-directors-meeting-3/
CATEGORIES:Board Meetings
END:VEVENT
BEGIN:VEVENT
DTSTART;TZID=America/Denver:20240118T153000
DTEND;TZID=America/Denver:20240118T163000
DTSTAMP:20260420T075017
CREATED:20231213T182940Z
LAST-MODIFIED:20231213T182940Z
UID:556-1705591800-1705595400@www.ventanafund.org
SUMMARY:Board of Directors Meeting
DESCRIPTION:The Ventana Fund’s Board will meet monthly.
URL:https://www.ventanafund.org/event/board-of-directors-meeting-2/
CATEGORIES:Board Meetings
END:VEVENT
BEGIN:VEVENT
DTSTART;TZID=America/Denver:20231214T153000
DTEND;TZID=America/Denver:20231214T163000
DTSTAMP:20260420T075017
CREATED:20231213T182515Z
LAST-MODIFIED:20231218T152057Z
UID:555-1702567800-1702571400@www.ventanafund.org
SUMMARY:Board of Directors Meeting
DESCRIPTION:The Ventana Fund’s Board will meet monthly.
URL:https://www.ventanafund.org/event/board-of-directors-meeting/
CATEGORIES:Board Meetings
END:VEVENT
END:VCALENDAR