BEGIN:VCALENDAR
VERSION:2.0
PRODID:-//Ventana Fund - ECPv6.5.0//NONSGML v1.0//EN
CALSCALE:GREGORIAN
METHOD:PUBLISH
X-WR-CALNAME:Ventana Fund
X-ORIGINAL-URL:https://www.ventanafund.org
X-WR-CALDESC:Events for Ventana Fund
REFRESH-INTERVAL;VALUE=DURATION:PT1H
X-Robots-Tag:noindex
X-PUBLISHED-TTL:PT1H
BEGIN:VTIMEZONE
TZID:America/Denver
BEGIN:DAYLIGHT
TZOFFSETFROM:-0700
TZOFFSETTO:-0600
TZNAME:MDT
DTSTART:20240310T090000
END:DAYLIGHT
BEGIN:STANDARD
TZOFFSETFROM:-0600
TZOFFSETTO:-0700
TZNAME:MST
DTSTART:20241103T080000
END:STANDARD
BEGIN:DAYLIGHT
TZOFFSETFROM:-0700
TZOFFSETTO:-0600
TZNAME:MDT
DTSTART:20250309T090000
END:DAYLIGHT
BEGIN:STANDARD
TZOFFSETFROM:-0600
TZOFFSETTO:-0700
TZNAME:MST
DTSTART:20251102T080000
END:STANDARD
BEGIN:DAYLIGHT
TZOFFSETFROM:-0700
TZOFFSETTO:-0600
TZNAME:MDT
DTSTART:20260308T090000
END:DAYLIGHT
BEGIN:STANDARD
TZOFFSETFROM:-0600
TZOFFSETTO:-0700
TZNAME:MST
DTSTART:20261101T080000
END:STANDARD
END:VTIMEZONE
BEGIN:VEVENT
DTSTART;TZID=America/Denver:20260407T153000
DTEND;TZID=America/Denver:20260407T163000
DTSTAMP:20260421T052348
CREATED:20260123T220435Z
LAST-MODIFIED:20260123T220435Z
UID:1588-1775575800-1775579400@www.ventanafund.org
SUMMARY:Loan Committee Meeting
DESCRIPTION:
URL:https://www.ventanafund.org/event/loan-committee-meeting-28/
CATEGORIES:Loan Committee Meetings
END:VEVENT
BEGIN:VEVENT
DTSTART;TZID=America/Denver:20260303T153000
DTEND;TZID=America/Denver:20260303T163000
DTSTAMP:20260421T052348
CREATED:20260123T212559Z
LAST-MODIFIED:20260123T212559Z
UID:1580-1772551800-1772555400@www.ventanafund.org
SUMMARY:Loan Committee Meeting
DESCRIPTION:
URL:https://www.ventanafund.org/event/loan-committee-meeting-27/
CATEGORIES:Loan Committee Meetings
END:VEVENT
BEGIN:VEVENT
DTSTART;TZID=America/Denver:20260210T153000
DTEND;TZID=America/Denver:20260210T163000
DTSTAMP:20260421T052348
CREATED:20260123T211911Z
LAST-MODIFIED:20260123T211911Z
UID:1574-1770737400-1770741000@www.ventanafund.org
SUMMARY:Loan Committee Meeting
DESCRIPTION:
URL:https://www.ventanafund.org/event/loan-committee-meeting-26/
CATEGORIES:Loan Committee Meetings
END:VEVENT
BEGIN:VEVENT
DTSTART;TZID=America/Denver:20260106T153000
DTEND;TZID=America/Denver:20260106T163000
DTSTAMP:20260421T052348
CREATED:20260123T210739Z
LAST-MODIFIED:20260123T210739Z
UID:1566-1767713400-1767717000@www.ventanafund.org
SUMMARY:Loan Committee Meeting
DESCRIPTION:
URL:https://www.ventanafund.org/event/loan-committee-meeting-25/
CATEGORIES:Loan Committee Meetings
END:VEVENT
BEGIN:VEVENT
DTSTART;TZID=America/Denver:20251202T153000
DTEND;TZID=America/Denver:20251202T163000
DTSTAMP:20260421T052348
CREATED:20250114T164543Z
LAST-MODIFIED:20250114T164543Z
UID:1341-1764689400-1764693000@www.ventanafund.org
SUMMARY:Loan Committee Meeting
DESCRIPTION:The Ventana Fund’s Loan Committee will meet monthly.
URL:https://www.ventanafund.org/event/loan-committee-meeting-24/
CATEGORIES:Loan Committee Meetings
END:VEVENT
BEGIN:VEVENT
DTSTART;TZID=America/Denver:20251104T153000
DTEND;TZID=America/Denver:20251104T163000
DTSTAMP:20260421T052348
CREATED:20250114T163511Z
LAST-MODIFIED:20250114T163511Z
UID:1335-1762270200-1762273800@www.ventanafund.org
SUMMARY:Loan Committee Meeting
DESCRIPTION:The Ventana Fund’s Loan Committee will meet monthly.
URL:https://www.ventanafund.org/event/loan-committee-meeting-23/
CATEGORIES:Loan Committee Meetings
END:VEVENT
BEGIN:VEVENT
DTSTART;TZID=America/Denver:20251007T153000
DTEND;TZID=America/Denver:20251007T163000
DTSTAMP:20260421T052348
CREATED:20250114T162408Z
LAST-MODIFIED:20250114T162408Z
UID:1329-1759851000-1759854600@www.ventanafund.org
SUMMARY:Loan Committee Meeting
DESCRIPTION:The Ventana Fund’s Loan Committee will meet monthly.
URL:https://www.ventanafund.org/event/loan-committee-meeting-22/
CATEGORIES:Loan Committee Meetings
END:VEVENT
BEGIN:VEVENT
DTSTART;TZID=America/Denver:20250909T153000
DTEND;TZID=America/Denver:20250909T163000
DTSTAMP:20260421T052348
CREATED:20250114T161440Z
LAST-MODIFIED:20250114T161440Z
UID:1323-1757431800-1757435400@www.ventanafund.org
SUMMARY:Loan Committee Meeting
DESCRIPTION:The Ventana Fund’s Loan Committee will meet monthly.
URL:https://www.ventanafund.org/event/loan-committee-meeting-21/
CATEGORIES:Loan Committee Meetings
END:VEVENT
BEGIN:VEVENT
DTSTART;TZID=America/Denver:20250805T153000
DTEND;TZID=America/Denver:20250805T163000
DTSTAMP:20260421T052348
CREATED:20250113T195616Z
LAST-MODIFIED:20250113T195616Z
UID:1317-1754407800-1754411400@www.ventanafund.org
SUMMARY:Loan Committee Meeting
DESCRIPTION:The Ventana Fund’s Loan Committee will meet monthly.
URL:https://www.ventanafund.org/event/loan-committee-meeting-20/
CATEGORIES:Loan Committee Meetings
END:VEVENT
BEGIN:VEVENT
DTSTART;TZID=America/Denver:20250708T153000
DTEND;TZID=America/Denver:20250708T163000
DTSTAMP:20260421T052348
CREATED:20250113T193343Z
LAST-MODIFIED:20250113T193343Z
UID:1301-1751988600-1751992200@www.ventanafund.org
SUMMARY:Loan Committee Meeting
DESCRIPTION:The Ventana Fund’s Loan Committee will meet monthly.
URL:https://www.ventanafund.org/event/loan-committee-meeting-19/
CATEGORIES:Loan Committee Meetings
END:VEVENT
BEGIN:VEVENT
DTSTART;TZID=America/Denver:20250603T153000
DTEND;TZID=America/Denver:20250603T163000
DTSTAMP:20260421T052348
CREATED:20250113T192323Z
LAST-MODIFIED:20250113T192323Z
UID:1295-1748964600-1748968200@www.ventanafund.org
SUMMARY:Loan Committee Meeting
DESCRIPTION:The Ventana Fund’s Loan Committee will meet monthly.
URL:https://www.ventanafund.org/event/loan-committee-meeting-18/
CATEGORIES:Loan Committee Meetings
END:VEVENT
BEGIN:VEVENT
DTSTART;TZID=America/Denver:20250506T153000
DTEND;TZID=America/Denver:20250506T163000
DTSTAMP:20260421T052348
CREATED:20250113T191146Z
LAST-MODIFIED:20250113T191146Z
UID:1288-1746545400-1746549000@www.ventanafund.org
SUMMARY:Loan Committee Meeting
DESCRIPTION:The Ventana Fund’s Loan Committee will meet monthly.
URL:https://www.ventanafund.org/event/loan-committee-meeting-17/
CATEGORIES:Loan Committee Meetings
END:VEVENT
BEGIN:VEVENT
DTSTART;TZID=America/Denver:20250401T153000
DTEND;TZID=America/Denver:20250401T163000
DTSTAMP:20260421T052348
CREATED:20250102T192014Z
LAST-MODIFIED:20250102T192014Z
UID:1278-1743521400-1743525000@www.ventanafund.org
SUMMARY:Loan Committee Meeting
DESCRIPTION:The Ventana Fund’s Loan Committee will meet monthly.
URL:https://www.ventanafund.org/event/loan-committee-meeting-16/
CATEGORIES:Loan Committee Meetings
END:VEVENT
BEGIN:VEVENT
DTSTART;TZID=America/Denver:20250304T153000
DTEND;TZID=America/Denver:20250304T163000
DTSTAMP:20260421T052348
CREATED:20250102T190356Z
LAST-MODIFIED:20250102T190356Z
UID:1262-1741102200-1741105800@www.ventanafund.org
SUMMARY:Loan Committee Meeting
DESCRIPTION:The Ventana Fund’s Loan Committee will meet monthly.
URL:https://www.ventanafund.org/event/loan-committee-meeting-15/
CATEGORIES:Loan Committee Meetings
END:VEVENT
BEGIN:VEVENT
DTSTART;TZID=America/Denver:20250204T153000
DTEND;TZID=America/Denver:20250204T163000
DTSTAMP:20260421T052348
CREATED:20250102T184832Z
LAST-MODIFIED:20250102T191416Z
UID:1256-1738683000-1738686600@www.ventanafund.org
SUMMARY:Loan Committee Meeting
DESCRIPTION:The Ventana Fund’s Loan Committee will meet monthly.
URL:https://www.ventanafund.org/event/loan-committee-meeting-14/
CATEGORIES:Loan Committee Meetings
END:VEVENT
BEGIN:VEVENT
DTSTART;TZID=America/Denver:20250107T153000
DTEND;TZID=America/Denver:20250107T163000
DTSTAMP:20260421T052348
CREATED:20250102T183313Z
LAST-MODIFIED:20250102T183313Z
UID:1249-1736263800-1736267400@www.ventanafund.org
SUMMARY:Loan Committee Meeting
DESCRIPTION:The Ventana Fund’s Loan Committee will meet monthly.
URL:https://www.ventanafund.org/event/loan-committee-meeting-4/
CATEGORIES:Loan Committee Meetings
END:VEVENT
BEGIN:VEVENT
DTSTART;TZID=America/Denver:20241210T153000
DTEND;TZID=America/Denver:20241210T163000
DTSTAMP:20260421T052348
CREATED:20231214T233613Z
LAST-MODIFIED:20231214T233613Z
UID:632-1733844600-1733848200@www.ventanafund.org
SUMMARY:Loan Committee Meeting
DESCRIPTION:The Ventana Fund’s Loan Committee will meet monthly.
URL:https://www.ventanafund.org/event/loan-committee-meeting-13/
CATEGORIES:Loan Committee Meetings
END:VEVENT
BEGIN:VEVENT
DTSTART;TZID=America/Denver:20241203T153000
DTEND;TZID=America/Denver:20241203T163000
DTSTAMP:20260421T052348
CREATED:20231214T232958Z
LAST-MODIFIED:20231214T232958Z
UID:615-1733239800-1733243400@www.ventanafund.org
SUMMARY:Preview Loan Committee Meeting
DESCRIPTION:The Ventana Fund’s Loan Committee will meet monthly.
URL:https://www.ventanafund.org/event/preview-loan-committee-meeting-11/
CATEGORIES:Loan Committee Meetings
END:VEVENT
BEGIN:VEVENT
DTSTART;TZID=America/Denver:20241112T153000
DTEND;TZID=America/Denver:20241112T163000
DTSTAMP:20260421T052348
CREATED:20231214T233542Z
LAST-MODIFIED:20231214T233542Z
UID:631-1731425400-1731429000@www.ventanafund.org
SUMMARY:Loan Committee Meeting
DESCRIPTION:The Ventana Fund’s Loan Committee will meet monthly.
URL:https://www.ventanafund.org/event/loan-committee-meeting-12/
CATEGORIES:Loan Committee Meetings
END:VEVENT
BEGIN:VEVENT
DTSTART;TZID=America/Denver:20241105T153000
DTEND;TZID=America/Denver:20241105T163000
DTSTAMP:20260421T052348
CREATED:20231214T232925Z
LAST-MODIFIED:20231214T232925Z
UID:614-1730820600-1730824200@www.ventanafund.org
SUMMARY:Preview Loan Committee Meeting
DESCRIPTION:The Ventana Fund’s Loan Committee will meet monthly.
URL:https://www.ventanafund.org/event/preview-loan-committee-meeting-10/
CATEGORIES:Loan Committee Meetings
END:VEVENT
BEGIN:VEVENT
DTSTART;TZID=America/Denver:20241008T153000
DTEND;TZID=America/Denver:20241008T163000
DTSTAMP:20260421T052348
CREATED:20231214T233520Z
LAST-MODIFIED:20231214T233520Z
UID:630-1728401400-1728405000@www.ventanafund.org
SUMMARY:Loan Committee Meeting
DESCRIPTION:The Ventana Fund’s Loan Committee will meet monthly.
URL:https://www.ventanafund.org/event/loan-committee-meeting-11/
CATEGORIES:Loan Committee Meetings
END:VEVENT
BEGIN:VEVENT
DTSTART;TZID=America/Denver:20241001T153000
DTEND;TZID=America/Denver:20241001T163000
DTSTAMP:20260421T052348
CREATED:20231214T232832Z
LAST-MODIFIED:20231214T232832Z
UID:622-1727796600-1727800200@www.ventanafund.org
SUMMARY:Preview Loan Committee Meeting
DESCRIPTION:The Ventana Fund’s Loan Committee will meet monthly.
URL:https://www.ventanafund.org/event/preview-loan-committee-meeting-9/
CATEGORIES:Loan Committee Meetings
END:VEVENT
BEGIN:VEVENT
DTSTART;TZID=America/Denver:20240917T153000
DTEND;TZID=America/Denver:20240917T163000
DTSTAMP:20260421T052348
CREATED:20231214T233456Z
LAST-MODIFIED:20240730T174759Z
UID:629-1726587000-1726590600@www.ventanafund.org
SUMMARY:Loan Committee Meeting
DESCRIPTION:The Ventana Fund’s Loan Committee will meet monthly.
URL:https://www.ventanafund.org/event/loan-committee-meeting-10/
CATEGORIES:Loan Committee Meetings
END:VEVENT
BEGIN:VEVENT
DTSTART;TZID=America/Denver:20240910T153000
DTEND;TZID=America/Denver:20240910T163000
DTSTAMP:20260421T052348
CREATED:20231214T232756Z
LAST-MODIFIED:20240730T174703Z
UID:621-1725982200-1725985800@www.ventanafund.org
SUMMARY:Preview Loan Committee Meeting
DESCRIPTION:The Ventana Fund’s Loan Committee will meet monthly.
URL:https://www.ventanafund.org/event/preview-loan-committee-meeting-8/
CATEGORIES:Loan Committee Meetings
END:VEVENT
BEGIN:VEVENT
DTSTART;TZID=America/Denver:20240813T153000
DTEND;TZID=America/Denver:20240813T163000
DTSTAMP:20260421T052348
CREATED:20231214T233401Z
LAST-MODIFIED:20231214T233401Z
UID:628-1723563000-1723566600@www.ventanafund.org
SUMMARY:Loan Committee Meeting
DESCRIPTION:The Ventana Fund’s Loan Committee will meet monthly.
URL:https://www.ventanafund.org/event/loan-committee-meeting-9/
CATEGORIES:Loan Committee Meetings
END:VEVENT
BEGIN:VEVENT
DTSTART;TZID=America/Denver:20240806T153000
DTEND;TZID=America/Denver:20240806T163000
DTSTAMP:20260421T052348
CREATED:20231214T232653Z
LAST-MODIFIED:20231214T232653Z
UID:620-1722958200-1722961800@www.ventanafund.org
SUMMARY:Preview Loan Committee Meeting
DESCRIPTION:The Ventana Fund’s Loan Committee will meet monthly.
URL:https://www.ventanafund.org/event/preview-loan-committee-meeting-7/
CATEGORIES:Loan Committee Meetings
END:VEVENT
BEGIN:VEVENT
DTSTART;TZID=America/Denver:20240716T153000
DTEND;TZID=America/Denver:20240716T163000
DTSTAMP:20260421T052348
CREATED:20231214T233345Z
LAST-MODIFIED:20231214T233345Z
UID:627-1721143800-1721147400@www.ventanafund.org
SUMMARY:Loan Committee Meeting
DESCRIPTION:The Ventana Fund’s Loan Committee will meet monthly.
URL:https://www.ventanafund.org/event/loan-committee-meeting-8/
CATEGORIES:Loan Committee Meetings
END:VEVENT
BEGIN:VEVENT
DTSTART;TZID=America/Denver:20240709T153000
DTEND;TZID=America/Denver:20240709T163000
DTSTAMP:20260421T052348
CREATED:20231214T232626Z
LAST-MODIFIED:20231214T232626Z
UID:619-1720539000-1720542600@www.ventanafund.org
SUMMARY:Preview Loan Committee Meeting
DESCRIPTION:The Ventana Fund’s Loan Committee will meet monthly.
URL:https://www.ventanafund.org/event/preview-loan-committee-meeting-6/
CATEGORIES:Loan Committee Meetings
END:VEVENT
BEGIN:VEVENT
DTSTART;TZID=America/Denver:20240611T153000
DTEND;TZID=America/Denver:20240611T163000
DTSTAMP:20260421T052348
CREATED:20231214T233328Z
LAST-MODIFIED:20231214T233328Z
UID:626-1718119800-1718123400@www.ventanafund.org
SUMMARY:Loan Committee Meeting
DESCRIPTION:The Ventana Fund’s Loan Committee will meet monthly.
URL:https://www.ventanafund.org/event/loan-committee-meeting-7/
CATEGORIES:Loan Committee Meetings
END:VEVENT
BEGIN:VEVENT
DTSTART;TZID=America/Denver:20240604T153000
DTEND;TZID=America/Denver:20240604T163000
DTSTAMP:20260421T052348
CREATED:20231214T232552Z
LAST-MODIFIED:20231214T232552Z
UID:618-1717515000-1717518600@www.ventanafund.org
SUMMARY:Preview Loan Committee Meeting
DESCRIPTION:The Ventana Fund’s Loan Committee will meet monthly.
URL:https://www.ventanafund.org/event/the-ventana-funds-loan-committee-will-meet-monthly/
CATEGORIES:Loan Committee Meetings
END:VEVENT
END:VCALENDAR